BEGIN:VCALENDAR
VERSION:2.0
PRODID:-//Caring Matters - ECPv6.15.18//NONSGML v1.0//EN
CALSCALE:GREGORIAN
METHOD:PUBLISH
X-WR-CALNAME:Caring Matters
X-ORIGINAL-URL:https://caring-matters.com
X-WR-CALDESC:Events for Caring Matters
REFRESH-INTERVAL;VALUE=DURATION:PT1H
X-Robots-Tag:noindex
X-PUBLISHED-TTL:PT1H
BEGIN:VTIMEZONE
TZID:Africa/Abidjan
BEGIN:STANDARD
TZOFFSETFROM:+0000
TZOFFSETTO:+0000
TZNAME:GMT
DTSTART:20230101T000000
END:STANDARD
END:VTIMEZONE
BEGIN:VEVENT
DTSTART;VALUE=DATE:20241001
DTEND;VALUE=DATE:20241101
DTSTAMP:20260420T122743
CREATED:20231230T023835Z
LAST-MODIFIED:20231230T023835Z
UID:2677-1727740800-1730419199@caring-matters.com
SUMMARY:Celebrations For All October Birthday's
DESCRIPTION:Celebrating the amazing YOU on your special day for the month\, Happy birthday and many more!!
URL:https://caring-matters.com/event/celebrations-for-all-october-birthdays-2/
ATTACH;FMTTYPE=image/png:https://caring-matters.com/wp-content/uploads/2023/12/Happy-Birthday-December-10.png
END:VEVENT
END:VCALENDAR